BEGIN:VCALENDAR
VERSION:2.0
PRODID:-//Alternativet - ECPv6.15.14//NONSGML v1.0//EN
CALSCALE:GREGORIAN
METHOD:PUBLISH
X-WR-CALNAME:Alternativet
X-ORIGINAL-URL:https://alternativet.no
X-WR-CALDESC:Arrangement for Alternativet
REFRESH-INTERVAL;VALUE=DURATION:PT1H
X-Robots-Tag:noindex
X-PUBLISHED-TTL:PT1H
BEGIN:VTIMEZONE
TZID:Europe/Helsinki
BEGIN:DAYLIGHT
TZOFFSETFROM:+0200
TZOFFSETTO:+0300
TZNAME:EEST
DTSTART:20250330T010000
END:DAYLIGHT
BEGIN:STANDARD
TZOFFSETFROM:+0300
TZOFFSETTO:+0200
TZNAME:EET
DTSTART:20251026T010000
END:STANDARD
BEGIN:DAYLIGHT
TZOFFSETFROM:+0200
TZOFFSETTO:+0300
TZNAME:EEST
DTSTART:20260329T010000
END:DAYLIGHT
BEGIN:STANDARD
TZOFFSETFROM:+0300
TZOFFSETTO:+0200
TZNAME:EET
DTSTART:20261025T010000
END:STANDARD
BEGIN:DAYLIGHT
TZOFFSETFROM:+0200
TZOFFSETTO:+0300
TZNAME:EEST
DTSTART:20270328T010000
END:DAYLIGHT
BEGIN:STANDARD
TZOFFSETFROM:+0300
TZOFFSETTO:+0200
TZNAME:EET
DTSTART:20271031T010000
END:STANDARD
BEGIN:DAYLIGHT
TZOFFSETFROM:+0200
TZOFFSETTO:+0300
TZNAME:EEST
DTSTART:20280326T010000
END:DAYLIGHT
BEGIN:STANDARD
TZOFFSETFROM:+0300
TZOFFSETTO:+0200
TZNAME:EET
DTSTART:20281029T010000
END:STANDARD
END:VTIMEZONE
BEGIN:VTIMEZONE
TZID:Europe/Oslo
BEGIN:DAYLIGHT
TZOFFSETFROM:+0100
TZOFFSETTO:+0200
TZNAME:CEST
DTSTART:20250330T010000
END:DAYLIGHT
BEGIN:STANDARD
TZOFFSETFROM:+0200
TZOFFSETTO:+0100
TZNAME:CET
DTSTART:20251026T010000
END:STANDARD
BEGIN:DAYLIGHT
TZOFFSETFROM:+0100
TZOFFSETTO:+0200
TZNAME:CEST
DTSTART:20260329T010000
END:DAYLIGHT
BEGIN:STANDARD
TZOFFSETFROM:+0200
TZOFFSETTO:+0100
TZNAME:CET
DTSTART:20261025T010000
END:STANDARD
BEGIN:DAYLIGHT
TZOFFSETFROM:+0100
TZOFFSETTO:+0200
TZNAME:CEST
DTSTART:20270328T010000
END:DAYLIGHT
BEGIN:STANDARD
TZOFFSETFROM:+0200
TZOFFSETTO:+0100
TZNAME:CET
DTSTART:20271031T010000
END:STANDARD
BEGIN:DAYLIGHT
TZOFFSETFROM:+0100
TZOFFSETTO:+0200
TZNAME:CEST
DTSTART:20280326T010000
END:DAYLIGHT
BEGIN:STANDARD
TZOFFSETFROM:+0200
TZOFFSETTO:+0100
TZNAME:CET
DTSTART:20281029T010000
END:STANDARD
END:VTIMEZONE
BEGIN:VEVENT
DTSTART;TZID=Europe/Helsinki:20260313T170000
DTEND;TZID=Europe/Helsinki:20260607T170000
DTSTAMP:20260424T221446
CREATED:20250523T122746Z
LAST-MODIFIED:20250523T130353Z
UID:1896-1773421200-1780851600@alternativet.no
SUMMARY:NLP Master Practitioner - Oppstart mars 2026
DESCRIPTION:  \nOppstart NLP kurs 13. mars 2026 \nNLP Master Practitioner fortsetter der NLP Practitioner slutter. På dette kurset er det enda flere modeller og teknikker\, og mer vekt på coaching. \nViktig! Modulene er lagt opp med kursoppstart fredag kl 17:00 – 22:00. Lørdag og søndag kl. 09:00 – 17:00. \nAlle kurs arrangeres i Sanitetsforeningens Helsehus (Madlaveien 13) \nPris: 24.900.- \n  \nLitt om NLP (Nevro lingvistisk programmering)\nNevro lingvistisk programmering er et verktøy som kan bedre kommunikasjon\, skape endringer i fastlåste tankemønster og atferd. Motivere\, endre overbevisninger og gi mennesker et sterkere ståsted. Med innsikt og forståelse om de psykologiske mekanismer som ligger til grunn for at vi tar de valg vi gjør\, er NLP kjent som en av de mest effektive og moderne former for psykologi. \nMange ønsker å delta på kurs for sin egen utvikling. Det settes i sving en del forandringsprosesser\, og mange får en merkbar positiv forandring i løpet av kurset. Dette er en bivirkning av å integrere tankesettet\, ferdighetene og atferdsmønstrene som læres bort i løpet av kurset. \nKurset fører generelt sett til en evne til å skape god kontakt (magiske møter)\, bedre kommunikasjonsevner og bedre forståelse av seg selv og andre. Utenom dette vil kunnskapene og ferdighetene føre til at deltakere kan jobbe med psykoterapi og coaching når de mestrer pensum på kurset. \n  \nModul 1 / fredag – søndag / uke 11 – 2026 / Kursstart fredag 13.03.2026 kl.17:00 – 22:00 \nModul 2 / fredag – søndag / Uke 15 – 2026 / Kursstart fredag 10.04.2026 kl.17:00 – 22:00 \nModul 3 / fredag – søndag / Uke 19 – 2026 / Kursstart fredag 08.05.2025 kl.17:00 – 22:00 \nModul 4 / fredag – søndag / Uke 23 – 2026 / Kursstart fredag 05.06.2025 kl.17:00 – 22:00 \n  \nLes mer om NLP Practitioner og NLP Master ( Coachingskolen) her. \nVennligst fyll ut skjema på kontaktsiden for påmelding til kurs. velg din preferanse fra nedtrekkslisten i kontaktskjema. \nOm du synes det er knotete\, setter vi alltid pris på en telefonsamtale! \nRing oss gjerne for påmelding\, spørsmål\, etterspørsel av kurs og bestilling. \n 
URL:https://alternativet.no/kurskalender/nlp-master-practitioner-oppstart-mars-2026/
LOCATION:Stavanger Sanitetsforening\, Madlaveien 13\, Stavanger\, 4008\, Norge
ATTACH;FMTTYPE=image/jpeg:https://alternativet.no/wp-content/uploads/2022/11/Kommunikasjon.jpg
ORGANIZER;CN="Alternativet kurs og kompetansesenter":MAILTO:mette@alternativet.no
END:VEVENT
BEGIN:VEVENT
DTSTART;TZID=Europe/Oslo:20261102T170000
DTEND;TZID=Europe/Oslo:20261103T220000
DTSTAMP:20260424T221446
CREATED:20251020T160836Z
LAST-MODIFIED:20251020T160836Z
UID:1951-1793638800-1793743200@alternativet.no
SUMMARY:9 nøkler til mestring av lærevansker - 2026
DESCRIPTION:Mestring av lærevansker. Alle kan lære når det blir gjort på den rette måten. Med ny kunnskap om hjernen\, nevroplastisitet og teknikker plukket opp igjennom de siste 30 årene vil du lære teknikker som faktisk setter deg i stand til å lære og forstå at læring faktisk er mulig. Ikke bare er det mulig\, men GØY. Kurset er veldig praktisk lagt opp og vi trener på teknikkene begge dager. Det blir enkel matservering. \n  \nPris kr 2.750\,- inkluderer begge dagene \nFamiliepris kr 4.750\,- (Inntil 4 personer) \nRepitisjon: Halv pris. \n  \nPasser for pedagoger\, deg med ulike vansker knyttet til det å lære og foreldre av barn/ ungdom som sliter. \nKurset har vært kjørt 2-3 ganger i snart 20 år i regi Alternativet kurs og kompetansesenter. \nErling har blitt leid inn 7 ganger av Dysleksiforbundet fra Stavanger i sør til Ålesund i Nord. \nFor barn og ungdom under 15 år må foreldre være med som kursdeltager. Dere må også skoleres i denne måten å lære på \n  \nNår? \nMandag 02. november og tirsdag 03. november 2026  kl. 17:00 – 22:00 \n  \nVennligst fyll ut skjema på kontaktsiden for påmelding av kurs. Velg ønsket kurs fra nedtrekkslisten i kontaktskjema. \nOm du synes det er knotete\, setter vi alltid pris på en telefonsamtale! \nRing oss gjerne for spørsmål\, etterspørsel av kurs og/eller bestilling.
URL:https://alternativet.no/kurskalender/9-nokler-til-mestring-av-laerevansker-2026/
LOCATION:Stavanger Sanitetsforening\, Madlaveien 13\, Stavanger\, 4008\, Norge
ATTACH;FMTTYPE=image/jpeg:https://alternativet.no/wp-content/uploads/2022/05/coverbilde-gutt-laerevansker.jpg
ORGANIZER;CN="Alternativet kurs og kompetansesenter":MAILTO:mette@alternativet.no
END:VEVENT
BEGIN:VEVENT
DTSTART;TZID=Europe/Helsinki:20261106T170000
DTEND;TZID=Europe/Helsinki:20270207T170000
DTSTAMP:20260424T221446
CREATED:20251020T155834Z
LAST-MODIFIED:20251020T155834Z
UID:1944-1793984400-1802019600@alternativet.no
SUMMARY:NLP Master Practitioner 2026/2027
DESCRIPTION:  \nOppstart NLP kurs 06. november 2026 \nNLP Master Practitioner fortsetter der NLP Practitioner slutter. På dette kurset er det enda flere modeller og teknikker\, og mer vekt på coaching. \nViktig! Modulene er lagt opp med kursoppstart fredag kl 17:00 – 22:00. Lørdag og søndag kl. 09:00 – 17:00. \nAlle kurs arrangeres i Sanitetsforeningens Helsehus (Madlaveien 13) \nPris: 24.900.- \n  \nLitt om NLP (Nevro lingvistisk programmering)\nNevro lingvistisk programmering er et verktøy som kan bedre kommunikasjon\, skape endringer i fastlåste tankemønster og atferd. Motivere\, endre overbevisninger og gi mennesker et sterkere ståsted. Med innsikt og forståelse om de psykologiske mekanismer som ligger til grunn for at vi tar de valg vi gjør\, er NLP kjent som en av de mest effektive og moderne former for psykologi. \nMange ønsker å delta på kurs for sin egen utvikling. Det settes i sving en del forandringsprosesser\, og mange får en merkbar positiv forandring i løpet av kurset. Dette er en bivirkning av å integrere tankesettet\, ferdighetene og atferdsmønstrene som læres bort i løpet av kurset. \nKurset fører generelt sett til en evne til å skape god kontakt (magiske møter)\, bedre kommunikasjonsevner og bedre forståelse av seg selv og andre. Utenom dette vil kunnskapene og ferdighetene føre til at deltakere kan jobbe med psykoterapi og coaching når de mestrer pensum på kurset. \n  \nModul 1 / fredag – søndag / uke 45 – 2026 / Kursstart fredag 06.11.2026 kl.17:00 – 22:00 \nModul 2 / fredag – søndag / Uke 49 – 2026 / Kursstart fredag 10.04.2026 kl.17:00 – 22:00 \nModul 3 / fredag – søndag / Uke 1 – 2026 / Kursstart fredag 08.01.2027 kl.17:00 – 22:00 \nModul 4 / fredag – søndag / Uke 23 – 2026 / Kursstart fredag 05.02.2027 kl.17:00 – 22:00 \n  \nLes mer om NLP Practitioner og NLP Master ( Coachingskolen) her. \nVennligst fyll ut skjema på kontaktsiden for påmelding til kurs. velg din preferanse fra nedtrekkslisten i kontaktskjema. \nOm du synes det er knotete\, setter vi alltid pris på en telefonsamtale! \nRing oss gjerne for påmelding\, spørsmål\, etterspørsel av kurs og bestilling. \n 
URL:https://alternativet.no/kurskalender/nlp-master-practitioner-2026-2027/
LOCATION:Stavanger Sanitetsforening\, Madlaveien 13\, Stavanger\, 4008\, Norge
ATTACH;FMTTYPE=image/jpeg:https://alternativet.no/wp-content/uploads/2022/11/Kommunikasjon.jpg
ORGANIZER;CN="Alternativet kurs og kompetansesenter":MAILTO:mette@alternativet.no
END:VEVENT
BEGIN:VEVENT
DTSTART;TZID=Europe/Helsinki:20270312T170000
DTEND;TZID=Europe/Helsinki:20270606T170000
DTSTAMP:20260424T221446
CREATED:20251020T155132Z
LAST-MODIFIED:20251020T155132Z
UID:1940-1804870800-1812301200@alternativet.no
SUMMARY:NLP Practitioner 2027
DESCRIPTION:  \nOppstart NLP kurs 12. mars 2027 \nNLP Master Practitioner fortsetter der NLP Practitioner slutter. På dette kurset er det enda flere modeller og teknikker\, og mer vekt på coaching. \nViktig! Modulene er lagt opp med kursoppstart fredag kl 17:00 – 22:00. Lørdag og søndag kl. 09:00 – 17:00. \nAlle kurs arrangeres i Sanitetsforeningens Helsehus (Madlaveien 13) \nPris: 24.900.- \n  \nLitt om NLP (Nevro lingvistisk programmering)\nNevro lingvistisk programmering er et verktøy som kan bedre kommunikasjon\, skape endringer i fastlåste tankemønster og atferd. Motivere\, endre overbevisninger og gi mennesker et sterkere ståsted. Med innsikt og forståelse om de psykologiske mekanismer som ligger til grunn for at vi tar de valg vi gjør\, er NLP kjent som en av de mest effektive og moderne former for psykologi. \nMange ønsker å delta på kurs for sin egen utvikling. Det settes i sving en del forandringsprosesser\, og mange får en merkbar positiv forandring i løpet av kurset. Dette er en bivirkning av å integrere tankesettet\, ferdighetene og atferdsmønstrene som læres bort i løpet av kurset. \nKurset fører generelt sett til en evne til å skape god kontakt (magiske møter)\, bedre kommunikasjonsevner og bedre forståelse av seg selv og andre. Utenom dette vil kunnskapene og ferdighetene føre til at deltakere kan jobbe med psykoterapi og coaching når de mestrer pensum på kurset. \n  \nModul 1 / fredag – søndag / uke 10 – 2027 / Kursstart fredag 12.03.2027 kl.17:00 – 22:00 \nModul 2 / fredag – søndag / Uke 14 – 2027 / Kursstart fredag 09.04.2027 kl.17:00 – 22:00 \nModul 3 / fredag – søndag / Uke 18 – 2027 / Kursstart fredag 07.05.2027 kl.17:00 – 22:00 \nModul 4 / fredag – søndag / Uke 22 – 2027 / Kursstart fredag 04.06.2027 kl.17:00 – 22:00 \n  \nLes mer om NLP Practitioner og NLP Master ( Coachingskolen) her. \nVennligst fyll ut skjema på kontaktsiden for påmelding til kurs. velg din preferanse fra nedtrekkslisten i kontaktskjema. \nOm du synes det er knotete\, setter vi alltid pris på en telefonsamtale! \nRing oss gjerne for påmelding\, spørsmål\, etterspørsel av kurs og bestilling. \n 
URL:https://alternativet.no/kurskalender/nlp-practitioner-2027/
LOCATION:Stavanger Sanitetsforening\, Madlaveien 13\, Stavanger\, 4008\, Norge
ATTACH;FMTTYPE=image/jpeg:https://alternativet.no/wp-content/uploads/2022/11/Kommunikasjon.jpg
ORGANIZER;CN="Alternativet kurs og kompetansesenter":MAILTO:mette@alternativet.no
END:VEVENT
BEGIN:VEVENT
DTSTART;TZID=Europe/Oslo:20270412T170000
DTEND;TZID=Europe/Oslo:20270413T220000
DTSTAMP:20260424T221446
CREATED:20251020T161435Z
LAST-MODIFIED:20251020T161435Z
UID:1954-1807549200-1807653600@alternativet.no
SUMMARY:9 nøkler til mestring av lærevansker - 2027
DESCRIPTION:Mestring av lærevansker. Alle kan lære når det blir gjort på den rette måten. Med ny kunnskap om hjernen\, nevroplastisitet og teknikker plukket opp igjennom de siste 30 årene vil du lære teknikker som faktisk setter deg i stand til å lære og forstå at læring faktisk er mulig. Ikke bare er det mulig\, men GØY. Kurset er veldig praktisk lagt opp og vi trener på teknikkene begge dager. Det blir enkel matservering. \n  \nPris kr 2.750\,- inkluderer begge dagene \nFamiliepris kr 4.750\,- (Inntil 4 personer) \nRepitisjon: Halv pris. \n  \nPasser for pedagoger\, deg med ulike vansker knyttet til det å lære og foreldre av barn/ ungdom som sliter. \nKurset har vært kjørt 2-3 ganger i snart 20 år i regi Alternativet kurs og kompetansesenter. \nErling har blitt leid inn 7 ganger av Dysleksiforbundet fra Stavanger i sør til Ålesund i Nord. \nFor barn og ungdom under 15 år må foreldre være med som kursdeltager. Dere må også skoleres i denne måten å lære på \n  \nNår? \nMandag 12. april og tirsdag 13. april 2027 kl. 17:00 – 22:00 \n  \nVennligst fyll ut skjema på kontaktsiden for påmelding av kurs. Velg ønsket kurs fra nedtrekkslisten i kontaktskjema. \nOm du synes det er knotete\, setter vi alltid pris på en telefonsamtale! \nRing oss gjerne for spørsmål\, etterspørsel av kurs og/eller bestilling.
URL:https://alternativet.no/kurskalender/9-nokler-til-mestring-av-laerevansker-2027/
LOCATION:Stavanger Sanitetsforening\, Madlaveien 13\, Stavanger\, 4008\, Norge
ATTACH;FMTTYPE=image/jpeg:https://alternativet.no/wp-content/uploads/2022/05/coverbilde-gutt-laerevansker.jpg
ORGANIZER;CN="Alternativet kurs og kompetansesenter":MAILTO:mette@alternativet.no
END:VEVENT
BEGIN:VEVENT
DTSTART;TZID=Europe/Oslo:20271101T170000
DTEND;TZID=Europe/Oslo:20271102T220000
DTSTAMP:20260424T221446
CREATED:20251020T161929Z
LAST-MODIFIED:20251020T161929Z
UID:1956-1825088400-1825192800@alternativet.no
SUMMARY:Mestring av lærevansker - 9 nøkler - 2027
DESCRIPTION:Mestring av lærevansker. Alle kan lære når det blir gjort på den rette måten. Med ny kunnskap om hjernen\, nevroplastisitet og teknikker plukket opp igjennom de siste 30 årene vil du lære teknikker som faktisk setter deg i stand til å lære og forstå at læring faktisk er mulig. Ikke bare er det mulig\, men GØY. Kurset er veldig praktisk lagt opp og vi trener på teknikkene begge dager. Det blir enkel matservering. \n  \nPris kr 2.750\,- inkluderer begge dagene \nFamiliepris kr 4.750\,- (Inntil 4 personer) \nRepitisjon: Halv pris. \n  \nPasser for pedagoger\, deg med ulike vansker knyttet til det å lære og foreldre av barn/ ungdom som sliter. \nKurset har vært kjørt 2-3 ganger i snart 20 år i regi Alternativet kurs og kompetansesenter. \nErling har blitt leid inn 7 ganger av Dysleksiforbundet fra Stavanger i sør til Ålesund i Nord. \nFor barn og ungdom under 15 år må foreldre være med som kursdeltager. Dere må også skoleres i denne måten å lære på \n  \nNår? \nMandag 01. november og tirsdag 02. november 2027 kl. 17:00 – 22:00 \n  \nVennligst fyll ut skjema på kontaktsiden for påmelding av kurs. Velg ønsket kurs fra nedtrekkslisten i kontaktskjema. \nOm du synes det er knotete\, setter vi alltid pris på en telefonsamtale! \nRing oss gjerne for spørsmål\, etterspørsel av kurs og/eller bestilling.
URL:https://alternativet.no/kurskalender/mestring-av-laerevansker-9-nokler-2027/
LOCATION:Stavanger Sanitetsforening\, Madlaveien 13\, Stavanger\, 4008\, Norge
ATTACH;FMTTYPE=image/jpeg:https://alternativet.no/wp-content/uploads/2022/05/coverbilde-gutt-laerevansker.jpg
ORGANIZER;CN="Alternativet kurs og kompetansesenter":MAILTO:mette@alternativet.no
END:VEVENT
END:VCALENDAR