BEGIN:VCALENDAR
VERSION:2.0
PRODID:-//Alternativet - ECPv6.15.14//NONSGML v1.0//EN
CALSCALE:GREGORIAN
METHOD:PUBLISH
X-WR-CALNAME:Alternativet
X-ORIGINAL-URL:https://alternativet.no
X-WR-CALDESC:Arrangement for Alternativet
REFRESH-INTERVAL;VALUE=DURATION:PT1H
X-Robots-Tag:noindex
X-PUBLISHED-TTL:PT1H
BEGIN:VTIMEZONE
TZID:Europe/Helsinki
BEGIN:DAYLIGHT
TZOFFSETFROM:+0200
TZOFFSETTO:+0300
TZNAME:EEST
DTSTART:20240331T010000
END:DAYLIGHT
BEGIN:STANDARD
TZOFFSETFROM:+0300
TZOFFSETTO:+0200
TZNAME:EET
DTSTART:20241027T010000
END:STANDARD
BEGIN:DAYLIGHT
TZOFFSETFROM:+0200
TZOFFSETTO:+0300
TZNAME:EEST
DTSTART:20250330T010000
END:DAYLIGHT
BEGIN:STANDARD
TZOFFSETFROM:+0300
TZOFFSETTO:+0200
TZNAME:EET
DTSTART:20251026T010000
END:STANDARD
BEGIN:DAYLIGHT
TZOFFSETFROM:+0200
TZOFFSETTO:+0300
TZNAME:EEST
DTSTART:20260329T010000
END:DAYLIGHT
BEGIN:STANDARD
TZOFFSETFROM:+0300
TZOFFSETTO:+0200
TZNAME:EET
DTSTART:20261025T010000
END:STANDARD
BEGIN:DAYLIGHT
TZOFFSETFROM:+0200
TZOFFSETTO:+0300
TZNAME:EEST
DTSTART:20270328T010000
END:DAYLIGHT
BEGIN:STANDARD
TZOFFSETFROM:+0300
TZOFFSETTO:+0200
TZNAME:EET
DTSTART:20271031T010000
END:STANDARD
END:VTIMEZONE
BEGIN:VEVENT
DTSTART;TZID=Europe/Helsinki:20251107T170000
DTEND;TZID=Europe/Helsinki:20260201T170000
DTSTAMP:20260422T235042
CREATED:20250523T121812Z
LAST-MODIFIED:20251020T161033Z
UID:1891-1762534800-1769965200@alternativet.no
SUMMARY:NLP Practitioner kurs - Oppstart november 2025
DESCRIPTION:  \nOppstart NLP kurs 08. november 2025 \nViktig! Modulene er lagt opp med kursoppstart fredag kl 17:00 – 22:00. Lørdag og søndag kl. 09:00 – 17:00. \nAlle kurs arrangeres i Sanitetsforeningens Helsehus (Madlaveien 13) \nPris: 24.900.- \n  \nLitt om NLP (Nevro lingvistisk programmering)\nNevro lingvistisk programmering er et verktøy som kan bedre kommunikasjon\, skape endringer i fastlåste tankemønster og atferd. Motivere\, endre overbevisninger og gi mennesker et sterkere ståsted. Med innsikt og forståelse om de psykologiske mekanismer som ligger til grunn for at vi tar de valg vi gjør\, er NLP kjent som en av de mest effektive og moderne former for psykologi. \nMange ønsker å delta på kurs for sin egen utvikling. Det settes i sving en del forandringsprosesser\, og mange får en merkbar positiv forandring i løpet av kurset. Dette er en bivirkning av å integrere tankesettet\, ferdighetene og atferdsmønstrene som læres bort i løpet av kurset. \nNLP Practitioner kurset (Coachingskolen) fører generelt sett til en evne til å skape god kontakt (magiske møter)\, bedre kommunikasjonsevner og bedre forståelse av seg selv og andre. Utenom dette vil kunnskapene og ferdighetene føre til at deltakere kan jobbe med psykoterapi og coaching når de mestrer pensum på kurset. \n  \nModul 1 / fredag – søndag / uke 45 – 2025 / Kursstart fredag 07.11.2025 kl.17:00 – 22:00 \nModul 2 / fredag – søndag / Uke 49 – 2025 / Kursstart fredag 05.12.2025 kl.17:00 – 22:00 \nModul 3 / fredag – søndag / Uke 01 – 2026 / Kursstart fredag 02.01.2026 kl.17:00 – 22:00 \nModul 4 / fredag – søndag / Uke 05 – 2026 / Kursstart fredag 31.01 kl.17:00 – 22:00 \n  \nLes mer om NLP Practitioner og NLP Master ( Coachingskolen) her. \nVennligst fyll ut skjema på kontaktsiden for påmelding til kurs. velg din preferanse fra nedtrekkslisten i kontaktskjema. \nOm du synes det er knotete\, setter vi alltid pris på en telefonsamtale! \nRing oss gjerne for påmelding\, spørsmål\, etterspørsel av kurs og bestilling. \n 
URL:https://alternativet.no/kurskalender/nlp-practitioner-kurs-oppstart-november-2025/
LOCATION:Stavanger Sanitetsforening\, Madlaveien 13\, Stavanger\, 4008\, Norge
ATTACH;FMTTYPE=image/jpeg:https://alternativet.no/wp-content/uploads/2022/11/Kommunikasjon.jpg
ORGANIZER;CN="Alternativet kurs og kompetansesenter":MAILTO:mette@alternativet.no
END:VEVENT
END:VCALENDAR